BEGIN:VCALENDAR
VERSION:2.0
PRODID:-//FIRST Indiana Robotics - ECPv6.15.20//NONSGML v1.0//EN
CALSCALE:GREGORIAN
METHOD:PUBLISH
X-WR-CALNAME:FIRST Indiana Robotics
X-ORIGINAL-URL:https://www.firstindianarobotics.org
X-WR-CALDESC:Events for FIRST Indiana Robotics
REFRESH-INTERVAL;VALUE=DURATION:PT1H
X-Robots-Tag:noindex
X-PUBLISHED-TTL:PT1H
BEGIN:VTIMEZONE
TZID:America/Indiana/Indianapolis
BEGIN:DAYLIGHT
TZOFFSETFROM:-0500
TZOFFSETTO:-0400
TZNAME:EDT
DTSTART:20170312T070000
END:DAYLIGHT
BEGIN:STANDARD
TZOFFSETFROM:-0400
TZOFFSETTO:-0500
TZNAME:EST
DTSTART:20171105T060000
END:STANDARD
BEGIN:DAYLIGHT
TZOFFSETFROM:-0500
TZOFFSETTO:-0400
TZNAME:EDT
DTSTART:20180311T070000
END:DAYLIGHT
BEGIN:STANDARD
TZOFFSETFROM:-0400
TZOFFSETTO:-0500
TZNAME:EST
DTSTART:20181104T060000
END:STANDARD
BEGIN:DAYLIGHT
TZOFFSETFROM:-0500
TZOFFSETTO:-0400
TZNAME:EDT
DTSTART:20190310T070000
END:DAYLIGHT
BEGIN:STANDARD
TZOFFSETFROM:-0400
TZOFFSETTO:-0500
TZNAME:EST
DTSTART:20191103T060000
END:STANDARD
END:VTIMEZONE
BEGIN:VEVENT
DTSTART;TZID=America/Indiana/Indianapolis:20181119T120000
DTEND;TZID=America/Indiana/Indianapolis:20181119T170000
DTSTAMP:20260424T230511
CREATED:20181114T181411Z
LAST-MODIFIED:20181114T181411Z
UID:551-1542628800-1542646800@www.firstindianarobotics.org
SUMMARY:FRC Registration Fee Due
DESCRIPTION:Check out the FIRST website: \n  \nhttps://www.firstinspires.org/robotics/frc/pricing-and-payment
URL:https://www.firstindianarobotics.org/event-calendar/frc-registration-fee-due/
END:VEVENT
BEGIN:VEVENT
DTSTART;VALUE=DATE:20181027
DTEND;VALUE=DATE:20181028
DTSTAMP:20260424T230511
CREATED:20180904T003231Z
LAST-MODIFIED:20180904T003231Z
UID:333-1540598400-1540684799@www.firstindianarobotics.org
SUMMARY:Boiler Bot Battle Off-Season Competition
DESCRIPTION:
URL:https://www.firstindianarobotics.org/event-calendar/boiler-bot-battle-off-season-competition/
LOCATION:Cordova Recreational Sports Center\, Purdue University\, 355 N Martin Jischke Dr\, West Lafayette\, IN\, 47906\, United States
ORGANIZER;CN="Purdue FIRST Programs":MAILTO:president@purduefirst.org
END:VEVENT
BEGIN:VEVENT
DTSTART;VALUE=DATE:20181020
DTEND;VALUE=DATE:20181021
DTSTAMP:20260424T230511
CREATED:20180904T003039Z
LAST-MODIFIED:20180904T003039Z
UID:330-1539993600-1540079999@www.firstindianarobotics.org
SUMMARY:CAGE Match Off-Season Competition
DESCRIPTION:
URL:https://www.firstindianarobotics.org/event-calendar/cage-match-off-season-competition/
LOCATION:Southport High School\, 971 E Banta Rd\, Indianapolis\, IN\, 46227\, United States
END:VEVENT
BEGIN:VEVENT
DTSTART;TZID=America/Indiana/Indianapolis:20181006T080000
DTEND;TZID=America/Indiana/Indianapolis:20181006T160000
DTSTAMP:20260424T230511
CREATED:20180904T002916Z
LAST-MODIFIED:20180929T215942Z
UID:325-1538812800-1538841600@www.firstindianarobotics.org
SUMMARY:Purdue FIRST Forums
DESCRIPTION:See this informational document for the event schedule\, logistical information\, and a tentative session schedule! \nPre-registration is required for attending teams this year.
URL:https://www.firstindianarobotics.org/event-calendar/purdue-first-forums/
LOCATION:Forney Hall\, Purdue University\, 480 W Stadium Ave\, West Lafayette\, IN\, 47907\, United States
ORGANIZER;CN="Purdue FIRST Programs":MAILTO:president@purduefirst.org
END:VEVENT
BEGIN:VEVENT
DTSTART;TZID=America/Indiana/Indianapolis:20180928T000000
DTEND;TZID=America/Indiana/Indianapolis:20180929T120000
DTSTAMP:20260424T230511
CREATED:20180827T173501Z
LAST-MODIFIED:20180904T002114Z
UID:317-1538092800-1538222400@www.firstindianarobotics.org
SUMMARY:2018 IndyRAGE
DESCRIPTION:
URL:https://www.firstindianarobotics.org/event-calendar/2018-indyrage/
LOCATION:Perry Meridian HS\, 401 W Meridian School Rd\, Indianapolis\, IN\, 46217\, United States
ORGANIZER;CN="IndianaFIRST":MAILTO:info@firstindianarobotics.org
END:VEVENT
BEGIN:VEVENT
DTSTART;TZID=America/Indiana/Indianapolis:20180831T180000
DTEND;TZID=America/Indiana/Indianapolis:20180831T200000
DTSTAMP:20260424T230511
CREATED:20180827T172819Z
LAST-MODIFIED:20180827T172819Z
UID:314-1535738400-1535745600@www.firstindianarobotics.org
SUMMARY:Kokomo FRC Town Hall Meeting
DESCRIPTION:
URL:https://www.firstindianarobotics.org/event-calendar/kokomo-frc-town-hall-meeting/
LOCATION:AndyMark Headquarters\, 1900 E North St\, Kokomo\, IN\, 46901\, United States
END:VEVENT
BEGIN:VEVENT
DTSTART;TZID=America/Indiana/Indianapolis:20180828T180000
DTEND;TZID=America/Indiana/Indianapolis:20180828T200000
DTSTAMP:20260424T230511
CREATED:20180827T172500Z
LAST-MODIFIED:20180827T172500Z
UID:310-1535479200-1535486400@www.firstindianarobotics.org
SUMMARY:Greenwood FRC Town Hall Meeting
DESCRIPTION:Come hear some updates about the coming year from the IndianaFIRST leadership team!
URL:https://www.firstindianarobotics.org/event-calendar/greenwood-frc-town-hall-meeting/
LOCATION:Center Grove High School Innovation Center\, 2789 Trojan Ln\, Greenwood\, IN\, 46143\, United States
END:VEVENT
END:VCALENDAR