BEGIN:VCALENDAR
VERSION:2.0
PRODID:-//FIRST Indiana Robotics - ECPv6.15.20//NONSGML v1.0//EN
CALSCALE:GREGORIAN
METHOD:PUBLISH
X-ORIGINAL-URL:https://www.firstindianarobotics.org
X-WR-CALDESC:Events for FIRST Indiana Robotics
REFRESH-INTERVAL;VALUE=DURATION:PT1H
X-Robots-Tag:noindex
X-PUBLISHED-TTL:PT1H
BEGIN:VTIMEZONE
TZID:America/Indiana/Indianapolis
BEGIN:DAYLIGHT
TZOFFSETFROM:-0500
TZOFFSETTO:-0400
TZNAME:EDT
DTSTART:20210314T070000
END:DAYLIGHT
BEGIN:STANDARD
TZOFFSETFROM:-0400
TZOFFSETTO:-0500
TZNAME:EST
DTSTART:20211107T060000
END:STANDARD
BEGIN:DAYLIGHT
TZOFFSETFROM:-0500
TZOFFSETTO:-0400
TZNAME:EDT
DTSTART:20220313T070000
END:DAYLIGHT
BEGIN:STANDARD
TZOFFSETFROM:-0400
TZOFFSETTO:-0500
TZNAME:EST
DTSTART:20221106T060000
END:STANDARD
BEGIN:DAYLIGHT
TZOFFSETFROM:-0500
TZOFFSETTO:-0400
TZNAME:EDT
DTSTART:20230312T070000
END:DAYLIGHT
BEGIN:STANDARD
TZOFFSETFROM:-0400
TZOFFSETTO:-0500
TZNAME:EST
DTSTART:20231105T060000
END:STANDARD
BEGIN:DAYLIGHT
TZOFFSETFROM:-0500
TZOFFSETTO:-0400
TZNAME:EDT
DTSTART:20240310T070000
END:DAYLIGHT
BEGIN:STANDARD
TZOFFSETFROM:-0400
TZOFFSETTO:-0500
TZNAME:EST
DTSTART:20241103T060000
END:STANDARD
BEGIN:DAYLIGHT
TZOFFSETFROM:-0500
TZOFFSETTO:-0400
TZNAME:EDT
DTSTART:20250309T070000
END:DAYLIGHT
BEGIN:STANDARD
TZOFFSETFROM:-0400
TZOFFSETTO:-0500
TZNAME:EST
DTSTART:20251102T060000
END:STANDARD
BEGIN:DAYLIGHT
TZOFFSETFROM:-0500
TZOFFSETTO:-0400
TZNAME:EDT
DTSTART:20260308T070000
END:DAYLIGHT
BEGIN:STANDARD
TZOFFSETFROM:-0400
TZOFFSETTO:-0500
TZNAME:EST
DTSTART:20261101T060000
END:STANDARD
BEGIN:DAYLIGHT
TZOFFSETFROM:-0500
TZOFFSETTO:-0400
TZNAME:EDT
DTSTART:20270314T070000
END:DAYLIGHT
BEGIN:STANDARD
TZOFFSETFROM:-0400
TZOFFSETTO:-0500
TZNAME:EST
DTSTART:20271107T060000
END:STANDARD
END:VTIMEZONE
BEGIN:VEVENT
DTSTART;VALUE=DATE:20220419
DTEND;VALUE=DATE:20220424
DTSTAMP:20260424T093317
CREATED:20220418T141924Z
LAST-MODIFIED:20220418T143158Z
UID:5303-1650398400-1650743999@www.firstindianarobotics.org
SUMMARY:FIRST Championship
DESCRIPTION:Watch your favorite Indiana teams at the FLL World Festival and the FTC and FRC World Championship! \nhttps://www.firstchampionship.org/watch \nFind everything you need to know about the FIRST Championship HERE \nFollow Us on Social Media! \nFacebook \nTwitter \nInstagram \nUse hashtag #FINFAM
URL:https://www.firstindianarobotics.org/event-calendar/first-championship/
LOCATION:George R Brown Convention Center Houston\, 1001 Avenida De Las Americas\, Houston\, TX\, 77010\, United States
END:VEVENT
BEGIN:VEVENT
DTSTART;VALUE=DATE:20220519
DTEND;VALUE=DATE:20220520
DTSTAMP:20260424T093317
CREATED:20220519T165531Z
LAST-MODIFIED:20220519T165531Z
UID:5345-1652918400-1653004799@www.firstindianarobotics.org
SUMMARY:FIRST Scholarship Program Opens
DESCRIPTION:For more information about scholarship opportunities for the FIRST community\, visit the Scholarship webpage.
URL:https://www.firstindianarobotics.org/event-calendar/first-scholarship-program-opens/
END:VEVENT
BEGIN:VEVENT
DTSTART;TZID=America/Indiana/Indianapolis:20220519T050000
DTEND;TZID=America/Indiana/Indianapolis:20220519T130000
DTSTAMP:20260424T093317
CREATED:20220418T141222Z
LAST-MODIFIED:20220418T141222Z
UID:5301-1652936400-1652965200@www.firstindianarobotics.org
SUMMARY:2022-2023 Registration Opens
DESCRIPTION:Register for the 2022-2023 FIRST season today!  The system will open today for all programs to register. \nStart a Team! \nFLL \nFTC \nFRC \nDo you have questions?  Email us: info@firstindianarobotics.org 
URL:https://www.firstindianarobotics.org/event-calendar/2022-2023-registration-opens/
END:VEVENT
BEGIN:VEVENT
DTSTART;VALUE=DATE:20220802
DTEND;VALUE=DATE:20220803
DTSTAMP:20260424T093317
CREATED:20220519T164557Z
LAST-MODIFIED:20220519T164712Z
UID:5343-1659398400-1659484799@www.firstindianarobotics.org
SUMMARY:FLL Kickoff
DESCRIPTION:FIRST® LEGO® League will explore where energy comes from and how it is distributed\, stored\, and used to innovate for a better future in SUPERPOWERED℠
URL:https://www.firstindianarobotics.org/event-calendar/fll-kickoff/
CATEGORIES:FLL Challenge,FLL Explore
END:VEVENT
BEGIN:VEVENT
DTSTART;TZID=America/Indiana/Indianapolis:20220910T080000
DTEND;TZID=America/Indiana/Indianapolis:20220910T170000
DTSTAMP:20260424T093317
CREATED:20220519T164436Z
LAST-MODIFIED:20220519T164436Z
UID:5341-1662796800-1662829200@www.firstindianarobotics.org
SUMMARY:FTC Kickoff
DESCRIPTION:FIRST® Tech Challenge will test the limits of performance\, efficiency\, and endurance to power innovations forward in POWERPLAY℠ presented by Raytheon Technologies.
URL:https://www.firstindianarobotics.org/event-calendar/ftc-kickoff/
CATEGORIES:FTC
END:VEVENT
BEGIN:VEVENT
DTSTART;TZID=America/Indiana/Indianapolis:20220922T120000
DTEND;TZID=America/Indiana/Indianapolis:20220922T170000
DTSTAMP:20260424T093317
CREATED:20220519T165725Z
LAST-MODIFIED:20220519T165725Z
UID:5347-1663848000-1663866000@www.firstindianarobotics.org
SUMMARY:Kit and Kickoff Registration Opens
DESCRIPTION:Every FIRST Robotics Competition team must: \n\nSelect a Local Kickoff location to pick up their Kickoff Kit\nOR\nProvide a Kickoff Kit shipment address\n\n\nThe address must be a street address deliverable by FedEx\nNo PO Boxes\nNo APO Address\n\nKickoff Kit shipments will start in December once a team has secured their registration fee.  There is no guaranteed delivery date. \nIf you have any questions\, please contact firstroboticscompetition@firstinspires.org.
URL:https://www.firstindianarobotics.org/event-calendar/kit-and-kickoff-registration-opens-2/
CATEGORIES:FRC
END:VEVENT
BEGIN:VEVENT
DTSTART;TZID=America/Indiana/Indianapolis:20220922T120000
DTEND;TZID=America/Indiana/Indianapolis:20220929T170000
DTSTAMP:20260424T093317
CREATED:20220519T165910Z
LAST-MODIFIED:20220519T170401Z
UID:5349-1663848000-1664470800@www.firstindianarobotics.org
SUMMARY:First Event Registration - First Preference FRC
DESCRIPTION:All rookie and veteran teams are able to select events to preference for their 1st Regional Event or 1st District Event for the 2023 FIRST Robotics Competition Season. \nIf you have any questions\, please contact firstroboticscompetition@firstinspires.org.
URL:https://www.firstindianarobotics.org/event-calendar/first-event-registration-first-preference-frc/
CATEGORIES:FRC
END:VEVENT
BEGIN:VEVENT
DTSTART;VALUE=DATE:20230107
DTEND;VALUE=DATE:20230108
DTSTAMP:20260424T093317
CREATED:20220519T164338Z
LAST-MODIFIED:20220519T164338Z
UID:5339-1673049600-1673135999@www.firstindianarobotics.org
SUMMARY:FRC Kickoff
DESCRIPTION:FIRST® Robotics Competition unlocks the power of engineering to transform renewable energy and power a better future in CHARGED UP℠ presented by Haas.
URL:https://www.firstindianarobotics.org/event-calendar/frc-kickoff-4/
CATEGORIES:FRC
ORGANIZER;CN="FIRST Indiana Robotics":MAILTO:info@firstindianarobotics.org
END:VEVENT
BEGIN:VEVENT
DTSTART;TZID=America/Indiana/Indianapolis:20260110T120000
DTEND;TZID=America/Indiana/Indianapolis:20260110T170000
DTSTAMP:20260424T093317
CREATED:20251113T175126Z
LAST-MODIFIED:20251113T175128Z
UID:10706-1768046400-1768064400@www.firstindianarobotics.org
SUMMARY:FIRST Robotics Competition Kickoff
DESCRIPTION:These kickoff events will be taking place all over the state of Indiana.
URL:https://www.firstindianarobotics.org/event-calendar/first-robotics-competition-kickoff/
CATEGORIES:FRC
END:VEVENT
END:VCALENDAR