BEGIN:VCALENDAR
VERSION:2.0
PRODID:-//FIRST Indiana Robotics - ECPv6.15.20//NONSGML v1.0//EN
CALSCALE:GREGORIAN
METHOD:PUBLISH
X-ORIGINAL-URL:https://www.firstindianarobotics.org
X-WR-CALDESC:Events for FIRST Indiana Robotics
REFRESH-INTERVAL;VALUE=DURATION:PT1H
X-Robots-Tag:noindex
X-PUBLISHED-TTL:PT1H
BEGIN:VTIMEZONE
TZID:America/Indiana/Indianapolis
BEGIN:DAYLIGHT
TZOFFSETFROM:-0500
TZOFFSETTO:-0400
TZNAME:EDT
DTSTART:20210314T070000
END:DAYLIGHT
BEGIN:STANDARD
TZOFFSETFROM:-0400
TZOFFSETTO:-0500
TZNAME:EST
DTSTART:20211107T060000
END:STANDARD
BEGIN:DAYLIGHT
TZOFFSETFROM:-0500
TZOFFSETTO:-0400
TZNAME:EDT
DTSTART:20220313T070000
END:DAYLIGHT
BEGIN:STANDARD
TZOFFSETFROM:-0400
TZOFFSETTO:-0500
TZNAME:EST
DTSTART:20221106T060000
END:STANDARD
BEGIN:DAYLIGHT
TZOFFSETFROM:-0500
TZOFFSETTO:-0400
TZNAME:EDT
DTSTART:20230312T070000
END:DAYLIGHT
BEGIN:STANDARD
TZOFFSETFROM:-0400
TZOFFSETTO:-0500
TZNAME:EST
DTSTART:20231105T060000
END:STANDARD
END:VTIMEZONE
BEGIN:VEVENT
DTSTART;TZID=America/Indiana/Indianapolis:20220404T150000
DTEND;TZID=America/Indiana/Indianapolis:20220404T153000
DTSTAMP:20260424T075452
CREATED:20220401T173452Z
LAST-MODIFIED:20220401T173452Z
UID:5232-1649084400-1649086200@www.firstindianarobotics.org
SUMMARY:2022 FIN District Awards Show
DESCRIPTION:Join us as we announce the 2022 District Championship winners of the: \nChairman’s Award \nEngineering Inspiration Award \nRookie All-Star Award \n2 Dean’s List Finalists
URL:https://www.firstindianarobotics.org/event-calendar/2022-fin-district-awards-show/
LOCATION:Twitch
ORGANIZER;CN="FIRST Indiana Robotics":MAILTO:info@firstindianarobotics.org
END:VEVENT
END:VCALENDAR